BEGIN:VCALENDAR
VERSION:2.0
PRODID:icalendar-ruby
CALSCALE:GREGORIAN
METHOD:PUBLISH
BEGIN:VEVENT
DTSTAMP:20260420T135506Z
UID:59-398314@restorationfellowshipboston.org
DTSTART:20260503T160000Z
DTEND:20260503T173000Z
CLASS:PUBLIC
CREATED:20260412T005718
DESCRIPTION:Boston Business Fellowship is a community of Christians working
  in business seeking to live out our Christ-centered purpose in workplaces
  that may challenge our values. Join us in Commonwealth B (the corner room
 ) after service on May 3 for a session on "Spiritual Gifts\, Calling &amp\
 ; Managing Ambition." \n\nSign up here by May 1.\n\nQuestions? Email Bren
 t at bkeltner@gmail.com.
LAST-MODIFIED:20260412T005718
LOCATION:Wyndham Boston Beacon Hill - 15th floor - 5 Blossom St.\, Boston\,
  MA 02114
SUMMARY:Boston Business Fellowship Meeting
URL;VALUE=URI:https://restorationfellowshipboston.org/events/boston-busines
 s-fellowship-meeting--59/2026-05-03
ATTACH;FILENAME=vitaly-gariev-YyJNda7nsPo-unsplash.jpg;FMTTYPE=image/jpeg:h
 ttps://dq5pwpg1q8ru0.cloudfront.net/2026/04/12/04/57/17/a87cfc6d-08f8-48e0
 -8603-70bde0d18c69/vitaly-gariev-YyJNda7nsPo-unsplash.jpg
END:VEVENT
END:VCALENDAR
